BEGIN:VCALENDAR
VERSION:2.0
PRODID:-//Tukios.com/
BEGIN:VEVENT
UID:a0e7931a-9dbb-4842-9c49-7759069d1167@www.falgoutfuneralhomes.com
DTSTAMP:20260422T014122Z
DTSTART:20260427T160000Z
DTEND:20260427T170000Z
SUMMARY:Mass
DESCRIPTION:
URL:https://www.falgoutfuneralhomes.com/obituaries/theresa-gloria-adams
LOCATION:St. Hilary Catholic Church 333 Twin Oaks  Raceland LA 70394
GEO:29.6969184;-90.5710278
END:VEVENT
END:VCALENDAR