BEGIN:VCALENDAR
VERSION:2.0
PRODID:-//Tukios.com/
BEGIN:VEVENT
UID:4f0f7bf6-9acf-4184-bb00-40f7a0c4f758@www.falgoutfuneralhomes.com
DTSTAMP:20260422T013312Z
DTSTART:20260427T140000Z
DTEND:20260427T160000Z
SUMMARY:Visitation
DESCRIPTION:
URL:https://www.falgoutfuneralhomes.com/obituaries/theresa-gloria-adams
LOCATION:St. Hilary Catholic Church 333 Twin Oaks  Raceland LA 70394
GEO:29.6969184;-90.5710278
END:VEVENT
END:VCALENDAR