BEGIN:VCALENDAR
VERSION:2.0
PRODID:-//Tukios.com/
BEGIN:VEVENT
UID:5beb8a23-9ee4-4e3b-bf25-0bcb047b056a@www.falgoutfuneralhomes.com
DTSTAMP:20260420T232202Z
DTSTART:20260427T170000Z
DTEND:20260427T180000Z
SUMMARY:Mass
DESCRIPTION:
URL:https://www.falgoutfuneralhomes.com/obituaries/robert-dejean
LOCATION:St. Michael the Archangel Catholic Church 15405 Highway 90  
	Paradis LA 70080
GEO:29.8742143;-90.4389756
END:VEVENT
END:VCALENDAR