BEGIN:VCALENDAR
VERSION:2.0
PRODID:-//Tukios.com/
BEGIN:VEVENT
UID:653a4856-a37b-4e04-a8e0-9b4aa68d091c@www.falgoutfuneralhomes.com
DTSTAMP:20260420T232333Z
DTSTART:20260427T150000Z
DTEND:20260427T170000Z
SUMMARY:Visitation
DESCRIPTION:
URL:https://www.falgoutfuneralhomes.com/obituaries/robert-dejean
LOCATION:St. Michael the Archangel Catholic Church 15405 Highway 90  
	Paradis LA 70080
GEO:29.8742143;-90.4389756
END:VEVENT
END:VCALENDAR