BEGIN:VCALENDAR
VERSION:2.0
PRODID:-//Tukios.com/
BEGIN:VEVENT
UID:5a4e8226-cd9c-43cc-956f-50c67b398103@www.falgoutfuneralhomes.com
DTSTAMP:20260421T231829Z
DTSTART:20260424T170000Z
DTEND:20260424T171500Z
SUMMARY:Graveside Service
DESCRIPTION:
URL:https://www.falgoutfuneralhomes.com/obituaries/oliver-perrillioux-sr
LOCATION:  Cypress Street  Raceland LA 70394
GEO:29.695423;-90.5711182
END:VEVENT
END:VCALENDAR