BEGIN:VCALENDAR
VERSION:2.0
PRODID:-//Tukios.com/
BEGIN:VEVENT
UID:9f79feaf-77df-4cdb-8908-1a6457477e6f@www.falgoutfuneralhomes.com
DTSTAMP:20260421T231727Z
DTSTART:20260424T160000Z
DTEND:20260424T164500Z
SUMMARY:Funeral Service
DESCRIPTION:
URL:https://www.falgoutfuneralhomes.com/obituaries/oliver-perrillioux-sr
LOCATION: 3838 LA-1  Raceland LA 70394
GEO:29.7293264;-90.6055781
END:VEVENT
END:VCALENDAR