BEGIN:VCALENDAR
VERSION:2.0
PRODID:-//Tukios.com/
BEGIN:VEVENT
UID:96350cbb-e1ee-4e31-a8e2-3f1e86b09299@www.falgoutfuneralhomes.com
DTSTAMP:20260421T022408Z
DTSTART:20260423T170000Z
DTEND:20260423T180000Z
SUMMARY:Burial
DESCRIPTION:
URL:https://www.falgoutfuneralhomes.com/obituaries/doris-jane-dardar-martin
LOCATION:  East Main Street  Galliano LA 
GEO:29.4372171;-90.2984196
END:VEVENT
END:VCALENDAR