BEGIN:VCALENDAR
VERSION:2.0
PRODID:-//Tukios.com/
BEGIN:VEVENT
UID:14bee15c-a265-4189-98a9-4da2a370dae1@www.falgoutfuneralhomes.com
DTSTAMP:20260421T022743Z
DTSTART:20260423T160000Z
DTEND:20260423T170000Z
SUMMARY:Mass
DESCRIPTION:
URL:https://www.falgoutfuneralhomes.com/obituaries/doris-jane-dardar-martin
LOCATION: 17980 West Main Street  Galliano LA 70354
GEO:29.4341027;-90.298417
END:VEVENT
END:VCALENDAR