BEGIN:VCALENDAR
VERSION:2.0
PRODID:-//Tukios.com/
BEGIN:VEVENT
UID:6a4276bd-d260-447c-943c-3d5e1cc9d811@www.falgoutfuneralhomes.com
DTSTAMP:20260421T022652Z
DTSTART:20260423T140000Z
DTEND:20260423T150000Z
SUMMARY:Visitation
DESCRIPTION:
URL:https://www.falgoutfuneralhomes.com/obituaries/doris-jane-dardar-martin
LOCATION:St. Joseph Catholic Church 17980 W Main St Galliano,LA 70354 
	Galliano LA 70354
GEO:29.4341027;-90.298417
END:VEVENT
END:VCALENDAR