BEGIN:VCALENDAR
VERSION:2.0
PRODID:-//Tukios.com/
BEGIN:VEVENT
UID:60bfeb2f-bac2-4278-89a4-c0b21e1c4a6c@www.falgoutfuneralhomes.com
DTSTAMP:20260426T005259Z
DTSTART:20260428T160000Z
DTEND:20260428T170000Z
SUMMARY:Burial
DESCRIPTION:
URL:https://www.falgoutfuneralhomes.com/obituaries/donavon-bruce
LOCATION:  East Main Street  Galliano LA 
GEO:29.4372171;-90.2984196
END:VEVENT
END:VCALENDAR