BEGIN:VCALENDAR
VERSION:2.0
PRODID:-//Tukios.com/
BEGIN:VEVENT
UID:2af95ce1-5a0f-4e3c-90ee-2d18da9fd670@www.falgoutfuneralhomes.com
DTSTAMP:20260422T090245Z
DTSTART:20260418T170000Z
DTEND:20260418T171500Z
SUMMARY:Graveside Service
DESCRIPTION:
URL:https://www.falgoutfuneralhomes.com/obituaries/dolores-m-adams
LOCATION: 612 Main Street  Lockport LA 70374
GEO:29.6451389;-90.5337965
END:VEVENT
END:VCALENDAR