BEGIN:VCALENDAR
VERSION:2.0
PRODID:-//Tukios.com/
BEGIN:VEVENT
UID:64e14c10-910d-42f7-aadf-5da75bc7cbd9@www.falgoutfuneralhomes.com
DTSTAMP:20260420T085610Z
DTSTART:20260418T160000Z
DTEND:20260418T164500Z
SUMMARY:Mass
DESCRIPTION:
URL:https://www.falgoutfuneralhomes.com/obituaries/dolores-m-adams
LOCATION: 612 Church Street  Lockport LA 70374
GEO:29.6412823;-90.5412375
END:VEVENT
END:VCALENDAR