BEGIN:VCALENDAR
VERSION:2.0
PRODID:-//Tukios.com/
BEGIN:VEVENT
UID:60fd6910-23c9-4f8e-b299-4e98a35a3869@www.falgoutfuneralhomes.com
DTSTAMP:20260420T085352Z
DTSTART:20260418T140000Z
DTEND:20260418T160000Z
SUMMARY:Visitation
DESCRIPTION:
URL:https://www.falgoutfuneralhomes.com/obituaries/dolores-m-adams
LOCATION: 612 Church Street  Lockport LA 70374
GEO:29.6412823;-90.5412375
END:VEVENT
END:VCALENDAR