BEGIN:VCALENDAR
VERSION:2.0
PRODID:-//Tukios.com/
BEGIN:VEVENT
UID:1d17385b-0696-4337-bdbb-1a9c5bde49cc@www.falgoutfuneralhomes.com
DTSTAMP:20260424T174014Z
DTSTART:20260428T170000Z
DTEND:20260428T173000Z
SUMMARY:Graveside Service
DESCRIPTION:
URL:https://www.falgoutfuneralhomes.com/obituaries/aubrey-eymard
LOCATION: 17980 W Main St  Galliano LA 70354
GEO:29.4341027;-90.298417
END:VEVENT
END:VCALENDAR