BEGIN:VCALENDAR
VERSION:2.0
PRODID:-//Tukios.com/
BEGIN:VEVENT
UID:2006b6fb-e6c9-4d60-b4ae-ebee2b02777a@www.falgoutfuneralhomes.com
DTSTAMP:20260424T173654Z
DTSTART:20260428T140000Z
DTEND:20260428T150000Z
SUMMARY:Visitation
DESCRIPTION:
URL:https://www.falgoutfuneralhomes.com/obituaries/aubrey-eymard
LOCATION: 12911 E Main St  Larose LA 70373
GEO:29.5723518;-90.3815595
END:VEVENT
END:VCALENDAR